BEGIN:VCALENDAR
VERSION:2.0
PRODID:-//wp-events-plugin.com//7.2.3.1//EN
BEGIN:VEVENT
UID:1-2556@gsana.org
DTSTART:20260520T000000Z
DTEND:20260520T010000Z
DTSTAMP:20251023T131034Z
URL:https://gsana.org/events/fellowship-in-the-field-xxxiv-meeting-schedul
 e-2026-05-19/
SUMMARY:Fellowship In The Field XXXIV Meetings
DESCRIPTION:\nZoom link
CATEGORIES:Service Meetings
LOCATION:https://us06web.zoom.us/j/87559409016?pwd=pG0RQAzVaCfGFrSh4jbOwe7x
 MrM8oa.1
END:VEVENT
END:VCALENDAR