BEGIN:VCALENDAR
VERSION:2.0
PRODID:-//wp-events-plugin.com//7.2.3.1//EN
BEGIN:VEVENT
UID:0-2106@gsana.org
DTSTART;VALUE=DATE:20230623
DTEND;VALUE=DATE:20230626
DTSTAMP:20221115T184616Z
URL:https://gsana.org/events/fellowship-in-the-field-xxxi/
SUMMARY:Fellowship in the Field XXXI
DESCRIPTION:Download Flyer Here \n\nFellowship in the Field XXXI\nGramite 
 State Area\n\nApple Hill Campground\n647 Maple Street\nBethlehem\, NH 0357
 4
CATEGORIES:Recovery Event
LOCATION:Apple Hill Campground\, 647 Maple Street\, Bethlehem\, NH\, 03574\
 , United States
GEO:44.29076293478446;-71.66514156989746
X-APPLE-STRUCTURED-LOCATION;VALUE=URI;X-ADDRESS=647 Maple Street\, Bethlehe
 m\, NH\, 03574\, United States;X-APPLE-RADIUS=100;X-TITLE=Apple Hill Campg
 round:geo:44.29076293478446,-71.66514156989746
END:VEVENT
END:VCALENDAR