BEGIN:VCALENDAR
VERSION:2.0
PRODID:-//wp-events-plugin.com//7.2.3.1//EN
BEGIN:VEVENT
UID:0-2015@gsana.org
DTSTART:20221126T170000Z
DTEND:20221126T191500Z
DTSTAMP:20221009T050655Z
URL:https://gsana.org/events/emanon-group-38-year-anniversary/
SUMMARY:Emanon Group 38 Year Anniversary
DESCRIPTION:Download Flyer Here \n\nEmanon Group of Narcotics Anonymous\n\
 nSince 1984\n\n38 Year Anniversary\n\nNovember 26\, 2022\nPot Luck Dinner 
 5 pm - 6 pm\nSpeaker(s) 6-7:15 pm\n\nHope for NH Recovery Building\n293 Wi
 lson Street\nManchester\, NH
CATEGORIES:Recovery Event
LOCATION:Hope for NH Recovery\, 293 Wilson Street\, Manchester\, NH\, 03103
 \, United States
GEO:42.98113170000001;-71.44810799999999
X-APPLE-STRUCTURED-LOCATION;VALUE=URI;X-ADDRESS=293 Wilson Street\, Manches
 ter\, NH\, 03103\, United States;X-APPLE-RADIUS=100;X-TITLE=Hope for NH Re
 covery:geo:42.98113170000001,-71.44810799999999
END:VEVENT
END:VCALENDAR