BEGIN:VCALENDAR
VERSION:2.0
PRODID:-//wp-events-plugin.com//7.2.3.1//EN
BEGIN:VEVENT
UID:0-2486@gsana.org
DTSTART;VALUE=DATE:20250117
DTEND;VALUE=DATE:20250120
DTSTAMP:20241011T122611Z
URL:https://gsana.org/events/dopes-on-slopes-2025/
SUMMARY:Dopes on Slopes 2025
DESCRIPTION:
CATEGORIES:Recovery Event
LOCATION:Loon Mountain\, 60 Loon Mountain Rd\, Lincoln\, NH\, 03251\, Unite
 d States
GEO:44.045387;-71.626778
X-APPLE-STRUCTURED-LOCATION;VALUE=URI;X-ADDRESS=60 Loon Mountain Rd\, Linco
 ln\, NH\, 03251\, United States;X-APPLE-RADIUS=100;X-TITLE=Loon Mountain:g
 eo:44.045387,-71.626778
END:VEVENT
END:VCALENDAR