BEGIN:VCALENDAR
VERSION:2.0
PRODID:-//wp-events-plugin.com//7.2.3.1//EN
BEGIN:VEVENT
UID:0-1860@gsana.org
DTSTART:20210731T140000Z
DTEND:20210731T183000Z
DTSTAMP:20210720T054101Z
URL:https://gsana.org/events/carrying-the-message-around-the-world-virtual
 -learning-day/
SUMMARY:Carrying The Message Around The World Virtual Learning Day
DESCRIPTION:Download Flyer Here\n\nThe Carrying the Message Around the Worl
 d Virtual Group is having a Learning Day.\n\nJuly 31\, 2021 \n\n2 - 6:30 
 pm Eastern Time\n\nZoom ID 791 6298 1566\n\nPasscode: jftna 
CATEGORIES:Recovery Event,Service Meetings
END:VEVENT
END:VCALENDAR