BEGIN:VCALENDAR
VERSION:2.0
PRODID:-//wp-events-plugin.com//7.2.3.1//EN
BEGIN:VEVENT
UID:0-1134@gsana.org
DTSTART:20180218T180000Z
DTEND:20180218T210000Z
DTSTAMP:20180208T184123Z
URL:https://gsana.org/events/burning-resentments-bonfire/
SUMMARY:BURNING RESENTMENTS BONFIRE
DESCRIPTION:&nbsp\;\n\nDownload Flyer Here\n\nSeacoast Area of Narcotics An
 onymous\n BURNING RESENTMENTS BONFIRE\n\nSunday\, February 18\, 2018\n 1-
 4 pm with a 2 pm meeting\n\n 	Children welcome\n 	Bring a camp chair or fr
 eeze your buns off\n 	Snow\, fun\, food and Fellowship\n 	Grill availabl
 e\n 	Coffee provided\n 	Bring a dish\n 	No cost to attend\n\nEveryone Welc
 ome!\n\n&nbsp\;
ATTACH;FMTTYPE=image/jpeg:https://gsana.org/wp-content/uploads/2016/09/cam
 pfire.jpg
CATEGORIES:Recovery Event
LOCATION:Resentment Bonfire Place\, 24 Birchwood Lane\, Belmont\, NH\, 0322
 0\, Northern New England\, United States
GEO:43.4701787;-71.51411410000003
X-APPLE-STRUCTURED-LOCATION;VALUE=URI;X-ADDRESS=24 Birchwood Lane\, Belmont
 \, NH\, 03220\, Northern New England\, United States;X-APPLE-RADIUS=100;X-
 TITLE=Resentment Bonfire Place:geo:43.4701787,-71.51411410000003
END:VEVENT
END:VCALENDAR