BEGIN:VCALENDAR
VERSION:2.0
PRODID:-//wp-events-plugin.com//7.2.3.1//EN
BEGIN:VEVENT
UID:0-552@gsana.org
DTSTART:20160320T210000Z
DTEND:20160320T233000Z
DTSTAMP:20160306T162643Z
URL:https://gsana.org/events/burning-desire-group-mystery-year-anniversary
 /
SUMMARY:Burning Desire Group Mystery Year Anniversary
DESCRIPTION:Download Flyer Here\nBurning Desire Group\nCelebrating Mystery 
 Years!\nSunday March 20th\, 2016\n4:00 to 5:00 food &amp\; fellowship\n5:0
 0 – 6:30 Meeting\nPepperell Christian Fellowship\n17 Main St.\nPepperell
 \, MA 01463\nGranite State Area of Narcotics Anonymous web site: https://g
 sana.org/\n24 Hour Helpline Number\nToll Free 888-NA-HELP-U (888-624-3578)
CATEGORIES:Recovery Event
LOCATION:Pepperell Christian Fellowship\, 17 Main Street\, Pepperell\, MA\,
  01463\, Northern New England\, United States
GEO:42.667075;-71.5953467
X-APPLE-STRUCTURED-LOCATION;VALUE=URI;X-ADDRESS=17 Main Street\, Pepperell\
 , MA\, 01463\, Northern New England\, United States;X-APPLE-RADIUS=100;X-T
 ITLE=Pepperell Christian Fellowship:geo:42.667075,-71.5953467
END:VEVENT
END:VCALENDAR