BEGIN:VCALENDAR
VERSION:2.0
PRODID:-//wp-events-plugin.com//7.2.3.1//EN
BEGIN:VEVENT
UID:0-2204@gsana.org
DTSTART:20230610T150000Z
DTEND:20230610T170000Z
DTSTAMP:20230502T125923Z
URL:https://gsana.org/events/47636/
SUMMARY:Kick-off Meeting for GSA Convention XII
DESCRIPTION:In person or on Zoom - https://us06web.zoom.us/j/83691133658?pw
 d=SWpmeEpOL3k0aFJhditqS3MrKy8vQT09
CATEGORIES:Service Meetings
LOCATION:XII Convention Kickoff\, 124 Hayden Rd\, Hollis\, NH\, 03049\, Uni
 ted States
GEO:42.771921;-71.614607
X-APPLE-STRUCTURED-LOCATION;VALUE=URI;X-ADDRESS=124 Hayden Rd\, Hollis\, NH
 \, 03049\, United States;X-APPLE-RADIUS=100;X-TITLE=XII Convention Kickoff
 :geo:42.771921,-71.614607
END:VEVENT
END:VCALENDAR