BEGIN:VCALENDAR
VERSION:2.0
PRODID:-//wp-events-plugin.com//7.2.3.1//EN
BEGIN:VEVENT
UID:0-1319@gsana.org
DTSTART:20190615T170000Z
DTEND:20190615T220000Z
DTSTAMP:20190609T135354Z
URL:https://gsana.org/events/2019-na-bike-week-information/
SUMMARY:2019 NA Bike Week Information
DESCRIPTION:Download Meeting Flyer Here\n\nDownload Fun Run Flyer Here\n201
 9 NA Bike Week Information\nNARCOTICS ANONYMOUS MEETINGS\nWEIRS BEACH UNIT
 ED METHODIST CHURCH\n35 TOWER STREET LACONIA-WEIRS BEACH\, NH\nThursday\, 
 June 13th:        12:00 pm-1:30 pm and 4:00 pm to 5:30 pm\n\nFriday\
 , June 14th :             12:00 pm-1:30 pm and 4:00 pm to 5:30
  pm\n\nSaturday\, June 15th :        10:00 am-11:30 am\n\nBIKE WEEK
  FUN RUN TO SCULPTURED ROCKS!\nFREE BBQ – OLD FASHIONED SWIMMING HOLE!\n
 BRING YOUR SWIMSUIT\nSATURDAY\, JUNE 15TH\, 12:00 noon to 5:00 pm\nLEAVING
  FROM WEIRS BEACH UNITED METHODIST CHURCH\n35 TOWER STREET\, LACONIA\nAT N
 OON\nFOLLOWING THE 10:00am-11:30am MEETING\n\n 
CATEGORIES:Recovery Event
LOCATION:Weirs United Methodist Church\, 35 Tower Street\, Laconia\, NH\, U
 nited States
GEO:43.6078389;-71.46086600000001
X-APPLE-STRUCTURED-LOCATION;VALUE=URI;X-ADDRESS=35 Tower Street\, Laconia\,
  NH\, United States;X-APPLE-RADIUS=100;X-TITLE=Weirs United Methodist Chur
 ch:geo:43.6078389,-71.46086600000001
END:VEVENT
END:VCALENDAR